BEGIN:VCALENDAR
VERSION:2.0
PRODID:-//Mamis and More - ECPv6.15.20//NONSGML v1.0//EN
CALSCALE:GREGORIAN
METHOD:PUBLISH
X-ORIGINAL-URL:https://mamisandmore.com
X-WR-CALDESC:Veranstaltungen für Mamis and More
REFRESH-INTERVAL;VALUE=DURATION:PT1H
X-Robots-Tag:noindex
X-PUBLISHED-TTL:PT1H
BEGIN:VTIMEZONE
TZID:UTC
BEGIN:STANDARD
TZOFFSETFROM:+0000
TZOFFSETTO:+0000
TZNAME:UTC
DTSTART:20240101T000000
END:STANDARD
END:VTIMEZONE
BEGIN:VEVENT
DTSTART;VALUE=DATE:20250228
DTEND;VALUE=DATE:20250302
DTSTAMP:20260424T144322
CREATED:20250226T202736Z
LAST-MODIFIED:20250226T202926Z
UID:3448-1740700800-1740873599@mamisandmore.com
SUMMARY:Kinderartikelmarkt Frühling 2025
DESCRIPTION:28. Februar & 1. März 2025 \nMehr Infos gibt es hier. \n 
URL:https://mamisandmore.com/event/kinderartikelmarkt-fruehling-2025/
LOCATION:Turnhalle Waldneukirchen\, Schulstrasse 1\, Waldneukirchen\, 4595\, Österreich
ATTACH;FMTTYPE=image/jpeg:https://mamisandmore.com/wp-content/uploads/2023/01/Bild1.jpg
END:VEVENT
END:VCALENDAR