BEGIN:VCALENDAR
VERSION:2.0
PRODID:-//Mamis and More - ECPv6.15.20//NONSGML v1.0//EN
CALSCALE:GREGORIAN
METHOD:PUBLISH
X-ORIGINAL-URL:https://mamisandmore.com
X-WR-CALDESC:Veranstaltungen für Mamis and More
REFRESH-INTERVAL;VALUE=DURATION:PT1H
X-Robots-Tag:noindex
X-PUBLISHED-TTL:PT1H
BEGIN:VTIMEZONE
TZID:UTC
BEGIN:STANDARD
TZOFFSETFROM:+0000
TZOFFSETTO:+0000
TZNAME:UTC
DTSTART:20240101T000000
END:STANDARD
END:VTIMEZONE
BEGIN:VEVENT
DTSTART;TZID=UTC:20250420T100000
DTEND;TZID=UTC:20250420T110000
DTSTAMP:20260424T131221
CREATED:20250226T205259Z
LAST-MODIFIED:20250319T201621Z
UID:3458-1745143200-1745146800@mamisandmore.com
SUMMARY:Kinderkirche: Ostersonntag
DESCRIPTION:Ostersonntag – Kinderkirche \nam 20. April 2025  um 10 Uhr im Pfarrheim (parallel zum Ostergottesdienst) \nNach dem Ostergottesdienst Ostereier suchen im Pfarrgarten. \n 
URL:https://mamisandmore.com/event/kinderkirche-ostersonntag_2025/
LOCATION:Pfarrkirche Waldneukirchen
CATEGORIES:Kinderliturgie
END:VEVENT
END:VCALENDAR