BEGIN:VCALENDAR
VERSION:2.0
PRODID:-//Mamis and More - ECPv6.15.20//NONSGML v1.0//EN
CALSCALE:GREGORIAN
METHOD:PUBLISH
X-WR-CALNAME:Mamis and More
X-ORIGINAL-URL:https://mamisandmore.com
X-WR-CALDESC:Veranstaltungen für Mamis and More
REFRESH-INTERVAL;VALUE=DURATION:PT1H
X-Robots-Tag:noindex
X-PUBLISHED-TTL:PT1H
BEGIN:VTIMEZONE
TZID:UTC
BEGIN:STANDARD
TZOFFSETFROM:+0000
TZOFFSETTO:+0000
TZNAME:UTC
DTSTART:20240101T000000
END:STANDARD
END:VTIMEZONE
BEGIN:VEVENT
DTSTART;VALUE=DATE:20250503
DTEND;VALUE=DATE:20250504
DTSTAMP:20260424T113103
CREATED:20240822T185431Z
LAST-MODIFIED:20250409T151404Z
UID:3134-1746230400-1746316799@mamisandmore.com
SUMMARY:Erkundungstour zum Biohof Langwies 2025 => auf unbestimmte Zeit verschoben!!!
DESCRIPTION:Aufgrund der hochansteckenden Maul- und Klauenseuche wird empfohlen keine landwirtschaftlichen Betriebe zu besuchen um die Tiere zu schützen!  \nDeshalb muss unser Ausflug leider auf unbestimmte Zeit verschoben werden\, sobald es einen neuen Termin gibt werden wir euch informieren!!! \n  \n \n  \nVom Parkplatz der Turnhalle in Waldneukirchen aus starten wir erneut unsere Wanderung zum Biohof Langwies. \nDort erwarten uns die faszinierenden Angus-Rinder\, niedliche Küken und die emsigen Bienen des Hofes. \nSelbstverständlich dürfen wir uns auch auf eine köstliche Jause mit hofeigenen Produkten freuen\, die uns gestärkt auf den Rückweg schickt. \nDer Weg ist kinderwagentauglich und je nach Tempo der kleinen Wanderer lassen sich die 1\,5km in etwa 30 Minuten bewältigen. \nWie im vergangenen Jahr freuen wir uns auf ein unvergessliches Erlebnis. \n  \n    \nBitte um Anmeldung damit wir auch genug Jause bereitstellen können. \nUm die Kosten für die bereitgestellte Jause von der Familie Langwies zu decken\, werden wir ein Spendenkörbchen aufstellen\, in das ihr gerne einen Beitrag leisten könnt. \nName *Email *Telefonnummer *Anzahl der Personen *Fotos\, die während der Veranstaltung aufgenommen werden\, werden für Werbezwecke der Mütterrunde (Homepage\, Pfarrblatt\, Gemeindezeitung)weiterverwendet. Hiermit gebe ich mein Einverständnis\, dass Fotos auf denen ich oder meine Familie abgebildet sind verwendet werden dürfen.Message WebsiteSubmit\n  \n 
URL:https://mamisandmore.com/event/erkundungstour-zum-biohof-langwies-2025/
LOCATION:Erkundungstour zum Biohof Langwies\, Steinersdorfstrasse 46\, Waldneukirchen\, Oberösterreich\, 4595\, Austria
ATTACH;FMTTYPE=image/jpeg:https://mamisandmore.com/wp-content/uploads/2024/04/kueken.jpg
END:VEVENT
END:VCALENDAR