BEGIN:VCALENDAR
VERSION:2.0
PRODID:-//Mamis and More - ECPv6.15.20//NONSGML v1.0//EN
CALSCALE:GREGORIAN
METHOD:PUBLISH
X-WR-CALNAME:Mamis and More
X-ORIGINAL-URL:https://mamisandmore.com
X-WR-CALDESC:Veranstaltungen für Mamis and More
REFRESH-INTERVAL;VALUE=DURATION:PT1H
X-Robots-Tag:noindex
X-PUBLISHED-TTL:PT1H
BEGIN:VTIMEZONE
TZID:UTC
BEGIN:STANDARD
TZOFFSETFROM:+0000
TZOFFSETTO:+0000
TZNAME:UTC
DTSTART:20240101T000000
END:STANDARD
END:VTIMEZONE
BEGIN:VEVENT
DTSTART;TZID=UTC:20251107T170000
DTEND;TZID=UTC:20251107T220000
DTSTAMP:20260420T160140
CREATED:20250923T174507Z
LAST-MODIFIED:20250923T175001Z
UID:3587-1762534800-1762552800@mamisandmore.com
SUMMARY:Kegelabend - Schicklberg
DESCRIPTION:Wir laden euch recht Herzlich ein \n  \nZu unserem Kegelabend am 7. November 2025 \nab 17:00 im Gasthaus Schicklberg ein. \nFreut euch auf einen Abend mit leckerem Essen\,  \nTollen Gesprächen und Spaß beim gemeinsamen Kegeln! \nDie Kosten für die Kegelbahnen werden von der Mütterrunde übernommen. \nNatürlich gibt’s auch wieder tolle Preise  \nfür den Sieger und den Lucky Looser. \nMeldet euch gleich hier an! \nName *Email *Tel. Nummer *Message WebsiteSubmit\n 
URL:https://mamisandmore.com/event/kegelabend-schicklberg/
LOCATION:Schicklberg\, Schicklberg 1\, Achleiten\, 4550\, Austria
END:VEVENT
END:VCALENDAR