BEGIN:VCALENDAR
VERSION:2.0
PRODID:-//Mamis and More - ECPv6.15.20//NONSGML v1.0//EN
CALSCALE:GREGORIAN
METHOD:PUBLISH
X-WR-CALNAME:Mamis and More
X-ORIGINAL-URL:https://mamisandmore.com
X-WR-CALDESC:Veranstaltungen für Mamis and More
REFRESH-INTERVAL;VALUE=DURATION:PT1H
X-Robots-Tag:noindex
X-PUBLISHED-TTL:PT1H
BEGIN:VTIMEZONE
TZID:UTC
BEGIN:STANDARD
TZOFFSETFROM:+0000
TZOFFSETTO:+0000
TZNAME:UTC
DTSTART:20240101T000000
END:STANDARD
END:VTIMEZONE
BEGIN:VEVENT
DTSTART;TZID=UTC:20251127T150000
DTEND;TZID=UTC:20251127T210000
DTSTAMP:20260422T101416
CREATED:20250924T191443Z
LAST-MODIFIED:20250924T191443Z
UID:3597-1764255600-1764277200@mamisandmore.com
SUMMARY:Adventkranzbinden 2025
DESCRIPTION:Am 27.11.2025 dürfen wir von 15:00-21:00 wieder zum Adventkranzbinden einladen mit offenem Ausklang bei Keksen und Punsch. \nBei Maria Mayer \nBergstraße 4\, \n 4595 Waldneukirchen \nHier bekommt ihr die Möglichkeit euren eigenen individuellen Adventkranz ganz einfach selbst zu binden. \nMaterial wie Zweige\, Draht\, Heißklebe\, Bänder\, Deko etc. sind vorhanden. \nFür fragen zur Bindetechnik etc. steht uns Maria tatkräftig zur Verfügung. \nKerzen bitte Selbst mitnehmen \nWer möchte kann auch noch eigene Dekomaterialien mitnehmen. \nBitte um Voranmeldung damit wir auch genügend Material haben. \nUnkostenbeitrag 10€ für die Kränze \nWir freuen uns auf eine schöne Einstimmung in den Advent \nAnmeldung \nName *Email *Tel. Nummer *Message MessageSubmit
URL:https://mamisandmore.com/event/adventkranzbinden-2025/
LOCATION:Mayer Maria\, Bergstraße 4\, Waldneukirchen\, 4595\, Austria
END:VEVENT
END:VCALENDAR