BEGIN:VCALENDAR
VERSION:2.0
PRODID:-//Mamis and More - ECPv6.15.20//NONSGML v1.0//EN
CALSCALE:GREGORIAN
METHOD:PUBLISH
X-WR-CALNAME:Mamis and More
X-ORIGINAL-URL:https://mamisandmore.com
X-WR-CALDESC:Veranstaltungen für Mamis and More
REFRESH-INTERVAL;VALUE=DURATION:PT1H
X-Robots-Tag:noindex
X-PUBLISHED-TTL:PT1H
BEGIN:VTIMEZONE
TZID:UTC
BEGIN:STANDARD
TZOFFSETFROM:+0000
TZOFFSETTO:+0000
TZNAME:UTC
DTSTART:20240101T000000
END:STANDARD
END:VTIMEZONE
BEGIN:VEVENT
DTSTART;VALUE=DATE:20250228
DTEND;VALUE=DATE:20250302
DTSTAMP:20260424T130251
CREATED:20250226T202736Z
LAST-MODIFIED:20250226T202926Z
UID:3448-1740700800-1740873599@mamisandmore.com
SUMMARY:Kinderartikelmarkt Frühling 2025
DESCRIPTION:28. Februar & 1. März 2025 \nMehr Infos gibt es hier. \n 
URL:https://mamisandmore.com/event/kinderartikelmarkt-fruehling-2025/
LOCATION:Turnhalle Waldneukirchen\, Schulstrasse 1\, Waldneukirchen\, 4595\, Österreich
ATTACH;FMTTYPE=image/jpeg:https://mamisandmore.com/wp-content/uploads/2023/01/Bild1.jpg
END:VEVENT
BEGIN:VEVENT
DTSTART;TZID=UTC:20250307T190000
DTEND;TZID=UTC:20250307T233000
DTSTAMP:20260424T130251
CREATED:20250130T072943Z
LAST-MODIFIED:20250207T080052Z
UID:3374-1741374000-1741390200@mamisandmore.com
SUMMARY:Spiele-Stammtisch für Mamis
DESCRIPTION:Liebe Mamis\, \nich freue mich\, euch mitteilen zu können\, dass wir ab 7.3.2025 19.00 im Pfarrheim Obergeschoss (Jugendtreff) einen regelmäßigen Stammtisch  für uns organisieren werden. Es gibt uns die Möglichkeit\, dem Alltagstrott zu entfliehen und uns in gemütlicher Atmosphäre auszutauschen. Neben interessanten Gesprächen und Spielen wird natürlich auch für Getränke und Knabbereien gesorgt sein. \nEs ist wichtig\, sich ab und zu eine Auszeit zu gönnen und sich mit anderen Müttern zu vernetzen. Der Stammtisch dient nicht nur dazu\, sich zu entspannen\, sondern auch neue Freundschaften zu knüpfen und sich gegenseitig zu unterstützen. Es ist schön zu wissen\, dass man nicht alleine ist in den Herausforderungen des Mutterseins. \nWir freuen uns schon jetzt auf einen unterhaltsamen und geselligen Abend mit euch allen. Lasst uns gemeinsam eine schöne Zeit verbringen und uns gegenseitig stärken.
URL:https://mamisandmore.com/event/spiele-stammtisch-fuer-mamis/
LOCATION:Pfarrheim Waldneukirchen\, Dorfplatz 12\, Waldneukirchen\, 4595\, Österreich
END:VEVENT
BEGIN:VEVENT
DTSTART;TZID=UTC:20250314T163000
DTEND;TZID=UTC:20250314T171500
DTSTAMP:20260424T130251
CREATED:20250226T204627Z
LAST-MODIFIED:20250311T211017Z
UID:3454-1741969800-1741972500@mamisandmore.com
SUMMARY:Kinderkirche: Bet(t)hupferl
DESCRIPTION:Unsere Kinderkirchen-Handpuppen Kiki\, das Schaf und Kigo\, der Fuchs laden die Kinder herzlich zum Bet(t)hupferl \nam Freitag\, 14. März 202 von 16:30 – 17:15 Uhr in die Pfarrkirche ein. \nWir machen es uns wieder ganz gemütlich\, darum bring bitte wenn du möchtest ein Kuscheltier mit. \n \n  \n 
URL:https://mamisandmore.com/event/kinderkirche-betthupferl_20250314/
LOCATION:Pfarrkirche Waldneukirchen
CATEGORIES:Kinderliturgie
END:VEVENT
BEGIN:VEVENT
DTSTART;TZID=UTC:20250319T090000
DTEND;TZID=UTC:20250319T120000
DTSTAMP:20260424T130251
CREATED:20250205T124842Z
LAST-MODIFIED:20250207T095909Z
UID:3393-1742374800-1742385600@mamisandmore.com
SUMMARY:Workshop „Mit Baby entspannt durch die Nacht“
DESCRIPTION:Elternbildungsgutscheine einlösen \nAnmeldung: \nName *Email *Telefonnummer *Message EmailSubmit
URL:https://mamisandmore.com/event/workshop-mit-baby-entspannt-durch-die-nacht/
LOCATION:Pfarrheim Waldneukirchen\, Dorfplatz 12\, Waldneukirchen\, 4595\, Österreich
ORGANIZER;CN="Spiegel Treffpunkt Waldneukirchen":MAILTO:spiegel.waldneukirchen@gmx.at
END:VEVENT
BEGIN:VEVENT
DTSTART;TZID=UTC:20250321T150000
DTEND;TZID=UTC:20250321T154500
DTSTAMP:20260424T130251
CREATED:20250226T204902Z
LAST-MODIFIED:20250319T201747Z
UID:3456-1742569200-1742571900@mamisandmore.com
SUMMARY:Kinderkirche: Kinderkreuzweg
DESCRIPTION:Kinderkreuzweg am 21. März 2025 um 15 Uhr in der Pfarrkirche \n  \n 
URL:https://mamisandmore.com/event/kinderkirche-kreuzweg_2025/
LOCATION:Pfarrkirche Waldneukirchen
CATEGORIES:Kinderliturgie
END:VEVENT
BEGIN:VEVENT
DTSTART;TZID=UTC:20250321T180000
DTEND;TZID=UTC:20250321T220000
DTSTAMP:20260424T130251
CREATED:20250114T113317Z
LAST-MODIFIED:20250207T202426Z
UID:3368-1742580000-1742594400@mamisandmore.com
SUMMARY:Escape the Room
DESCRIPTION:Auch dieses Jahr steht wieder ein spannendes Event auf dem Programm: Am 21.03.2025 um 18:00 (Abfahrt ca. 17:15 Dorfplatz Waldneukirchen) werden wir in Micheldorf das Escape Room testen. Dabei haben wir die Möglichkeit\, unsere Rätselfähigkeiten unter Beweis zu stellen und gemeinsam als Team in einer mysteriösen Umgebung Rätsel zu lösen. Das Escape Room-Spiel verspricht jede Menge Nervenkitzel und Spannung\, sodass wir gespannt sind\, wie wir uns schlagen werden. \nNach diesem aufregenden Abenteuer lassen wir den Abend in gemütlicher Runde ausklingen im Tartuffel in Kirchdorf. Dort können wir uns bei schmackhaften Speisen und anregenden Gesprächen entspannen und den Abend gemeinsam genießen. Die Kosten für das Escape Room-Spiel werden von der Mütterrunde übernommen. Das anschließende Essen im Tartuffel ist jedoch von jedem selbst zu bezahlen. \nWir freuen uns schon jetzt auf einen tollen Abend in guter Gesellschaft und sind gespannt\, welche Herausforderungen und Rätsel uns beim Escape Room Micheldorf erwarten. Es wird sicherlich ein unvergesslicher Abend voller Spaß\, Spannung und kulinarischer Genüsse. Wir laden euch herzlich ein\, diesen Abend mit uns zu verbringen und freuen uns auf eine unvergessliche Zeit zusammen! \n  \nAnmeldung: \nName *Email *Fotos\, die während der Veranstaltung aufgenommen werden\, werden für Werbezwecke der Mütterrunde weiterverwendet. Hiermit gebe ich mein Einverständnis\, dass Fotos auf denen ich abgebildet bin\, verwendet werden dürfen.EmailAbsenden
URL:https://mamisandmore.com/event/escape-the-room/
LOCATION:EscapeGame Micheldorf\, Schön 48\, Micheldorf\, Oberösterreich\, 4563\, Austria
END:VEVENT
END:VCALENDAR