BEGIN:VCALENDAR
VERSION:2.0
PRODID:-//Mamis and More - ECPv6.15.20//NONSGML v1.0//EN
CALSCALE:GREGORIAN
METHOD:PUBLISH
X-ORIGINAL-URL:https://mamisandmore.com
X-WR-CALDESC:Veranstaltungen für Mamis and More
REFRESH-INTERVAL;VALUE=DURATION:PT1H
X-Robots-Tag:noindex
X-PUBLISHED-TTL:PT1H
BEGIN:VTIMEZONE
TZID:UTC
BEGIN:STANDARD
TZOFFSETFROM:+0000
TZOFFSETTO:+0000
TZNAME:UTC
DTSTART:20240101T000000
END:STANDARD
END:VTIMEZONE
BEGIN:VEVENT
DTSTART;VALUE=DATE:20250919
DTEND;VALUE=DATE:20250921
DTSTAMP:20260420T175730
CREATED:20250226T203119Z
LAST-MODIFIED:20250727T200419Z
UID:3452-1758240000-1758412799@mamisandmore.com
SUMMARY:Kinderartikelmarkt Herbst 2025 => ACHTUNG: in der BÜRGERHALLE in ADLWANG
DESCRIPTION:am 19. und 20. September 2025 \nWir müssen nach ADLWANG in die BÜRGERHALLE ausweichen\, da in Waldneukirchen die Turnhalle umgebaut wird. \n  \n  \n  \nMehr Infos gibt es hier. \n  \n 
URL:https://mamisandmore.com/event/kinderartikelmarkt-herbst-2025/
LOCATION:Bürgerhalle Adlwang\, Waldneukirchner Straße 4\, Adlwang\, 4541\, Austria
ATTACH;FMTTYPE=image/jpeg:https://mamisandmore.com/wp-content/uploads/2023/01/Bild1.jpg
END:VEVENT
END:VCALENDAR