BEGIN:VCALENDAR
VERSION:2.0
PRODID:-//Mamis and More - ECPv6.15.20//NONSGML v1.0//EN
CALSCALE:GREGORIAN
METHOD:PUBLISH
X-ORIGINAL-URL:https://mamisandmore.com
X-WR-CALDESC:Veranstaltungen für Mamis and More
REFRESH-INTERVAL;VALUE=DURATION:PT1H
X-Robots-Tag:noindex
X-PUBLISHED-TTL:PT1H
BEGIN:VTIMEZONE
TZID:UTC
BEGIN:STANDARD
TZOFFSETFROM:+0000
TZOFFSETTO:+0000
TZNAME:UTC
DTSTART:20240101T000000
END:STANDARD
END:VTIMEZONE
BEGIN:VEVENT
DTSTART;TZID=UTC:20251203T090000
DTEND;TZID=UTC:20251203T110000
DTSTAMP:20260420T125631
CREATED:20251029T191942Z
LAST-MODIFIED:20251029T192935Z
UID:3633-1764752400-1764759600@mamisandmore.com
SUMMARY:Advent Spielgruppe
DESCRIPTION:  \n \nDie Weihnachtsspielgruppe bietet die Gelegenheit\, sich kreativ auszuleben und musikalisch aktiv zu werden\, auch neue Kontakte werden geknüpft. Durch das gemeinsame Singen und Spielen entsteht eine besondere Verbundenheit unter den Eltern und Kindern\, die das Gefühl von Gemeinschaft und Zusammengehörigkeit stärkt. Es ist eine wunderbare Möglichkeit\, die Vorfreude auf Weihnachten mit anderen zu teilen und sich auf die besinnliche Zeit einzustimmen. \nBei dieser Spielgruppe werden Freiwillige Spenden gesammelt diese werden wieder an eine Familie gespendet die es dringend benötigt. \nAnmeldung \nName *Email *Telefonnummer *Name des Kindes + geburtsdatum CommentSubmit
URL:https://mamisandmore.com/event/advent-spielgruppe/
LOCATION:Pfarrheim Waldneukirchen\, Dorfplatz 12\, Waldneukirchen\, 4595\, Österreich
ORGANIZER;CN="Spiegel Treffpunkt Waldneukirchen":MAILTO:spiegel.waldneukirchen@gmx.at
END:VEVENT
BEGIN:VEVENT
DTSTART;TZID=UTC:20251205T090000
DTEND;TZID=UTC:20251205T110000
DTSTAMP:20260420T125631
CREATED:20251029T190951Z
LAST-MODIFIED:20251029T190951Z
UID:3628-1764925200-1764932400@mamisandmore.com
SUMMARY:Nikolaus in der Spielgruppe
DESCRIPTION:Der Nikolaus besucht die Spielgruppe. \nWir singen Lieder\, hören eine Geschichte über den Nikolaus und die Kinder bekommen alle ein Nikolaussäckchen. \nFür alle Kinder die noch keinen Kindergarten besuchen. \nAnmeldung:Name *Email *Telefonnummer *Name des Kindes und eine besongere eigenschaft CommentSubmit
URL:https://mamisandmore.com/event/nikolaus-in-der-spielgruppe-2/
LOCATION:Pfarrheim Waldneukirchen\, Dorfplatz 12\, Waldneukirchen\, 4595\, Österreich
ORGANIZER;CN="Spiegel Treffpunkt Waldneukirchen":MAILTO:spiegel.waldneukirchen@gmx.at
END:VEVENT
BEGIN:VEVENT
DTSTART;TZID=UTC:20251220T170000
DTEND;TZID=UTC:20251220T230000
DTSTAMP:20260420T125631
CREATED:20251118T103256Z
LAST-MODIFIED:20251118T103256Z
UID:3605-1766250000-1766271600@mamisandmore.com
SUMMARY:Weihnachtsfeier
DESCRIPTION:Stock Heil \n \nAm 20. Dezember 2025 um 17:00 Uhr laden wir herzlich zum Eisstock-Schießen in der Stockschützenhalle Waldneukirchen ein. Wenn du einen eigenen Eisstock hast\, bring ihn gerne mit. Für diejenigen\, die keinen besitzen\, stehen auch welche zum Ausleihen vom ATSV zur Verfügung. \nNach dem Stockschießen werden wir gemeinsam essen und unsere Weihnachtsfeier gemütlich ausklingen lassen. Passend zur Weihnachtszeit möchten wir natürlich nicht mit leeren Händen nach Hause gehen. Jeder ist daher eingeladen\, ein kleines Geschenk im Wert von ca. 15€ mitzubringen. \nVor Ort werden wir dann Geschenkroulette spielen\, um unsere Wichtelgeschenke auszutauschen. Freu dich auf einen besinnlichen Abend in vorweihnachtlicher Stimmung! \n  \nAnmeldung Weihnachtsfeier \nName *Email *Tel. Nr. *Message NameAbsenden
URL:https://mamisandmore.com/event/weihnachtsfeier-3/
LOCATION:Stockschützen Halle Waldneukirchen\, Wallernstraße 13\, Waldneukirchen\, Oberösterreich\, 4595\, Austria
END:VEVENT
END:VCALENDAR